BEGIN:VCALENDAR
VERSION:2.0
PRODID:-//South Shore Home, Life &amp; Style - ECPv6.15.17.1//NONSGML v1.0//EN
CALSCALE:GREGORIAN
METHOD:PUBLISH
X-ORIGINAL-URL:https://southshorehomelifeandstyle.com
X-WR-CALDESC:Events for South Shore Home, Life &amp; Style
REFRESH-INTERVAL;VALUE=DURATION:PT1H
X-Robots-Tag:noindex
X-PUBLISHED-TTL:PT1H
BEGIN:VTIMEZONE
TZID:America/New_York
BEGIN:DAYLIGHT
TZOFFSETFROM:-0500
TZOFFSETTO:-0400
TZNAME:EDT
DTSTART:20250309T070000
END:DAYLIGHT
BEGIN:STANDARD
TZOFFSETFROM:-0400
TZOFFSETTO:-0500
TZNAME:EST
DTSTART:20251102T060000
END:STANDARD
BEGIN:DAYLIGHT
TZOFFSETFROM:-0500
TZOFFSETTO:-0400
TZNAME:EDT
DTSTART:20260308T070000
END:DAYLIGHT
BEGIN:STANDARD
TZOFFSETFROM:-0400
TZOFFSETTO:-0500
TZNAME:EST
DTSTART:20261101T060000
END:STANDARD
BEGIN:DAYLIGHT
TZOFFSETFROM:-0500
TZOFFSETTO:-0400
TZNAME:EDT
DTSTART:20270314T070000
END:DAYLIGHT
BEGIN:STANDARD
TZOFFSETFROM:-0400
TZOFFSETTO:-0500
TZNAME:EST
DTSTART:20271107T060000
END:STANDARD
BEGIN:DAYLIGHT
TZOFFSETFROM:-0500
TZOFFSETTO:-0400
TZNAME:EDT
DTSTART:20280312T070000
END:DAYLIGHT
BEGIN:STANDARD
TZOFFSETFROM:-0400
TZOFFSETTO:-0500
TZNAME:EST
DTSTART:20281105T060000
END:STANDARD
END:VTIMEZONE
BEGIN:VEVENT
DTSTART;TZID=America/New_York:20260613T120000
DTEND;TZID=America/New_York:20270123T090000
DTSTAMP:20260421T061632
CREATED:20260221T010803Z
LAST-MODIFIED:20260221T010803Z
UID:10002447-1781352000-1800694800@southshorehomelifeandstyle.com
SUMMARY:Pembroke Farmers Market
DESCRIPTION:Pembroke Farmers Market is a community-based market that connects local farmers and artisans with consumers. Our market offers a wide range of products including fresh produce\, meats\, eggs\, dairy\, baked goods and local crafts. We are committed to providing high-quality\, locally sourced products while supporting our local economy. Come and support your local farmers market and explore the many offerings available. \nSecond and fourth Saturday from June 13 to October 3\, 10-1 pm ET.
URL:https://southshorehomelifeandstyle.com/event/pembroke-farmers-market-3/2026-06-13/2/
LOCATION:Pembroke Community Center\, 128 Center St.\, Pembroke\, MA\, 128 Center St.\, Pembroke\, MA\, 02359\, United States
CATEGORIES:Arts and Entertainment,Family Friendly,Food and Drink,Shopping
ATTACH;FMTTYPE=image/jpeg:https://southshorehomelifeandstyle.com/wp-content/uploads/2026/02/IMG_7155-scaled.jpg
ORGANIZER;CN="Pembroke Farmers Market":MAILTO:ktmcgraw@ampcomms.org
END:VEVENT
BEGIN:VEVENT
DTSTART;TZID=America/New_York:20260704T080000
DTEND;TZID=America/New_York:20260704T170000
DTSTAMP:20260421T061632
CREATED:20260420T193940Z
LAST-MODIFIED:20260420T193940Z
UID:10002581-1783152000-1783184400@southshorehomelifeandstyle.com
SUMMARY:Hingham Farmers Market
DESCRIPTION:Hingham Farmers Market is a 10 month market operating in January\, February and March at Wompatuck State Park\, 204 Union Street and then May to November at 95 Station Street\,  Hingham\,  With 40 vendors in the summer market\, there is a community of people who care about fresh produce and supporting entrepreneurial vendors who create and make their own food products and support artisans who design and make their craft.
URL:https://southshorehomelifeandstyle.com/event/hingham-farmers-market-2/2026-07-04/
CATEGORIES:Family Friendly,Food and Drink,Home and Garden,Shopping
ATTACH;FMTTYPE=image/png:https://southshorehomelifeandstyle.com/wp-content/uploads/2026/04/HFM-logo-1.png
END:VEVENT
BEGIN:VEVENT
DTSTART;TZID=America/New_York:20260704T090000
DTEND;TZID=America/New_York:20260704T130000
DTSTAMP:20260421T061632
CREATED:20260420T193940Z
LAST-MODIFIED:20260420T193940Z
UID:10002499-1783155600-1783170000@southshorehomelifeandstyle.com
SUMMARY:Hingham Farmers Market
DESCRIPTION:Hingham Farmers Market has 40 vendors of locally made products\, fresh produce and highly skilled artisans. HFM supports SNAP with a matching program.
URL:https://southshorehomelifeandstyle.com/event/hingham-farmers-market/2026-07-04/
CATEGORIES:Family Friendly,Food and Drink,Home and Garden,Shopping
END:VEVENT
BEGIN:VEVENT
DTSTART;TZID=America/New_York:20260704T100000
DTEND;TZID=America/New_York:20260704T113000
DTSTAMP:20260421T061632
CREATED:20250912T193947Z
LAST-MODIFIED:20250912T193947Z
UID:10001691-1783159200-1783164600@southshorehomelifeandstyle.com
SUMMARY:Cranberry Harvest Tour
DESCRIPTION:Join us for a behind-the-scenes look at the fascinating world of cranberry farming! Our guided tours offer an engaging glimpse into the year-round growing cycle and rich 200-year history of the Massachusetts cranberry industry—the birthplace of cranberry cultivation. You will travel to a bog and witness one or more stages of the iconic wet cranberry harvest in action. Don’t miss this quintessential New England autumn experience.  \nNote: This is a harvest viewing tour only—you will not enter a flooded bog.  \nAll ages welcome; content is geared toward adults\, but guides are happy to engage younger guests.\nTours begin with check-in and school bus transport to the harvest location.\nRestrooms available only at the starting point.\nNo pets allowed.\nTicket includes 1 bag of fresh cranberries and a complimentary MA Cranberries t-shirt.\nTours are approximately 90 minutes depending on the distance from the meeting location to the bog.
URL:https://southshorehomelifeandstyle.com/event/cranberry-harvest-tour/2026-07-04/
CATEGORIES:Arts and Entertainment,Family Friendly,Food and Drink,Home and Garden
ATTACH;FMTTYPE=image/jpeg:https://southshorehomelifeandstyle.com/wp-content/uploads/2025/09/20250417141507.jpg
ORGANIZER;CN="Massachusetts Cranberries":MAILTO:kcahill@cranberries.org
END:VEVENT
BEGIN:VEVENT
DTSTART;TZID=America/New_York:20260704T100000
DTEND;TZID=America/New_York:20260704T130000
DTSTAMP:20260421T061632
CREATED:20250520T141217Z
LAST-MODIFIED:20250520T141217Z
UID:10001484-1783159200-1783170000@southshorehomelifeandstyle.com
SUMMARY:Pembroke Farmers Market
DESCRIPTION:Pembroke Farmers Market is a community farmers market featuring locally grown produce\, locally raised meats and eggs\, and local crafters and artists. The market is organized by a small committee of town residents. The market occurs almost every Saturday from June 7th to October 4th\, 2025. The market hosts various vendors\, food trucks\, family-friendly activities\, and even live music.
URL:https://southshorehomelifeandstyle.com/event/pembroke-farmers-market/2026-07-04/
LOCATION:Pembroke Community Center\, 128 Center St.\, Pembroke\, MA\, 128 Center St.\, Pembroke\, MA\, 02359\, United States
CATEGORIES:Arts and Entertainment,Family Friendly,Food and Drink,Home and Garden,Shopping
ORGANIZER;CN="KT McGraw (Co-Founder)":MAILTO:pemfarmersmarket@gmail.com
END:VEVENT
BEGIN:VEVENT
DTSTART;TZID=America/New_York:20260704T100000
DTEND;TZID=America/New_York:20260704T130000
DTSTAMP:20260421T061632
CREATED:20250602T134720Z
LAST-MODIFIED:20250602T134720Z
UID:10001552-1783159200-1783170000@southshorehomelifeandstyle.com
SUMMARY:Pembroke Farmers Market
DESCRIPTION:Pembroke Farmers Market is a community farmers market featuring locally grown produce\, locally raised meats and eggs\, and local crafters and artists. The market is organized by a small committee of town residents. The market includes food trucks\, local vendors\, small businesses\, family-friendly activities\, and even live music! It takes place almost every Saturday from 10am – 1pm at the Pembroke Community Center.
URL:https://southshorehomelifeandstyle.com/event/pembroke-farmers-market-2/2026-07-04/
LOCATION:Pembroke Community Center\, 128 Center St.\, Pembroke\, MA\, 128 Center St.\, Pembroke\, MA\, 02359\, United States
CATEGORIES:Arts and Entertainment,Family Friendly,Food and Drink,Home and Garden,Shopping
ATTACH;FMTTYPE=image/jpeg:https://southshorehomelifeandstyle.com/wp-content/uploads/2025/05/Screenshot-2025-05-20-11.09.19-AM.jpg
ORGANIZER;CN="KT McGraw (Co-Founder)":MAILTO:pemfarmersmarket@gmail.com
END:VEVENT
BEGIN:VEVENT
DTSTART;TZID=America/New_York:20260711T080000
DTEND;TZID=America/New_York:20260711T170000
DTSTAMP:20260421T061632
CREATED:20260420T193940Z
LAST-MODIFIED:20260420T193940Z
UID:10002582-1783756800-1783789200@southshorehomelifeandstyle.com
SUMMARY:Hingham Farmers Market
DESCRIPTION:Hingham Farmers Market is a 10 month market operating in January\, February and March at Wompatuck State Park\, 204 Union Street and then May to November at 95 Station Street\,  Hingham\,  With 40 vendors in the summer market\, there is a community of people who care about fresh produce and supporting entrepreneurial vendors who create and make their own food products and support artisans who design and make their craft.
URL:https://southshorehomelifeandstyle.com/event/hingham-farmers-market-2/2026-07-11/
CATEGORIES:Family Friendly,Food and Drink,Home and Garden,Shopping
ATTACH;FMTTYPE=image/png:https://southshorehomelifeandstyle.com/wp-content/uploads/2026/04/HFM-logo-1.png
END:VEVENT
BEGIN:VEVENT
DTSTART;TZID=America/New_York:20260711T090000
DTEND;TZID=America/New_York:20260711T130000
DTSTAMP:20260421T061632
CREATED:20260420T193940Z
LAST-MODIFIED:20260420T193940Z
UID:10002500-1783760400-1783774800@southshorehomelifeandstyle.com
SUMMARY:Hingham Farmers Market
DESCRIPTION:Hingham Farmers Market has 40 vendors of locally made products\, fresh produce and highly skilled artisans. HFM supports SNAP with a matching program.
URL:https://southshorehomelifeandstyle.com/event/hingham-farmers-market/2026-07-11/
CATEGORIES:Family Friendly,Food and Drink,Home and Garden,Shopping
END:VEVENT
BEGIN:VEVENT
DTSTART;TZID=America/New_York:20260711T100000
DTEND;TZID=America/New_York:20260711T113000
DTSTAMP:20260421T061632
CREATED:20250912T193947Z
LAST-MODIFIED:20250912T193947Z
UID:10001692-1783764000-1783769400@southshorehomelifeandstyle.com
SUMMARY:Cranberry Harvest Tour
DESCRIPTION:Join us for a behind-the-scenes look at the fascinating world of cranberry farming! Our guided tours offer an engaging glimpse into the year-round growing cycle and rich 200-year history of the Massachusetts cranberry industry—the birthplace of cranberry cultivation. You will travel to a bog and witness one or more stages of the iconic wet cranberry harvest in action. Don’t miss this quintessential New England autumn experience.  \nNote: This is a harvest viewing tour only—you will not enter a flooded bog.  \nAll ages welcome; content is geared toward adults\, but guides are happy to engage younger guests.\nTours begin with check-in and school bus transport to the harvest location.\nRestrooms available only at the starting point.\nNo pets allowed.\nTicket includes 1 bag of fresh cranberries and a complimentary MA Cranberries t-shirt.\nTours are approximately 90 minutes depending on the distance from the meeting location to the bog.
URL:https://southshorehomelifeandstyle.com/event/cranberry-harvest-tour/2026-07-11/
CATEGORIES:Arts and Entertainment,Family Friendly,Food and Drink,Home and Garden
ATTACH;FMTTYPE=image/jpeg:https://southshorehomelifeandstyle.com/wp-content/uploads/2025/09/20250417141507.jpg
ORGANIZER;CN="Massachusetts Cranberries":MAILTO:kcahill@cranberries.org
END:VEVENT
BEGIN:VEVENT
DTSTART;TZID=America/New_York:20260711T100000
DTEND;TZID=America/New_York:20260711T130000
DTSTAMP:20260421T061632
CREATED:20250520T141217Z
LAST-MODIFIED:20250520T141217Z
UID:10001485-1783764000-1783774800@southshorehomelifeandstyle.com
SUMMARY:Pembroke Farmers Market
DESCRIPTION:Pembroke Farmers Market is a community farmers market featuring locally grown produce\, locally raised meats and eggs\, and local crafters and artists. The market is organized by a small committee of town residents. The market occurs almost every Saturday from June 7th to October 4th\, 2025. The market hosts various vendors\, food trucks\, family-friendly activities\, and even live music.
URL:https://southshorehomelifeandstyle.com/event/pembroke-farmers-market/2026-07-11/
LOCATION:Pembroke Community Center\, 128 Center St.\, Pembroke\, MA\, 128 Center St.\, Pembroke\, MA\, 02359\, United States
CATEGORIES:Arts and Entertainment,Family Friendly,Food and Drink,Home and Garden,Shopping
ORGANIZER;CN="KT McGraw (Co-Founder)":MAILTO:pemfarmersmarket@gmail.com
END:VEVENT
BEGIN:VEVENT
DTSTART;TZID=America/New_York:20260711T100000
DTEND;TZID=America/New_York:20260711T130000
DTSTAMP:20260421T061632
CREATED:20250602T134720Z
LAST-MODIFIED:20250602T134720Z
UID:10001553-1783764000-1783774800@southshorehomelifeandstyle.com
SUMMARY:Pembroke Farmers Market
DESCRIPTION:Pembroke Farmers Market is a community farmers market featuring locally grown produce\, locally raised meats and eggs\, and local crafters and artists. The market is organized by a small committee of town residents. The market includes food trucks\, local vendors\, small businesses\, family-friendly activities\, and even live music! It takes place almost every Saturday from 10am – 1pm at the Pembroke Community Center.
URL:https://southshorehomelifeandstyle.com/event/pembroke-farmers-market-2/2026-07-11/
LOCATION:Pembroke Community Center\, 128 Center St.\, Pembroke\, MA\, 128 Center St.\, Pembroke\, MA\, 02359\, United States
CATEGORIES:Arts and Entertainment,Family Friendly,Food and Drink,Home and Garden,Shopping
ATTACH;FMTTYPE=image/jpeg:https://southshorehomelifeandstyle.com/wp-content/uploads/2025/05/Screenshot-2025-05-20-11.09.19-AM.jpg
ORGANIZER;CN="KT McGraw (Co-Founder)":MAILTO:pemfarmersmarket@gmail.com
END:VEVENT
BEGIN:VEVENT
DTSTART;TZID=America/New_York:20260718T080000
DTEND;TZID=America/New_York:20260718T170000
DTSTAMP:20260421T061632
CREATED:20260420T193940Z
LAST-MODIFIED:20260420T193940Z
UID:10002583-1784361600-1784394000@southshorehomelifeandstyle.com
SUMMARY:Hingham Farmers Market
DESCRIPTION:Hingham Farmers Market is a 10 month market operating in January\, February and March at Wompatuck State Park\, 204 Union Street and then May to November at 95 Station Street\,  Hingham\,  With 40 vendors in the summer market\, there is a community of people who care about fresh produce and supporting entrepreneurial vendors who create and make their own food products and support artisans who design and make their craft.
URL:https://southshorehomelifeandstyle.com/event/hingham-farmers-market-2/2026-07-18/
CATEGORIES:Family Friendly,Food and Drink,Home and Garden,Shopping
ATTACH;FMTTYPE=image/png:https://southshorehomelifeandstyle.com/wp-content/uploads/2026/04/HFM-logo-1.png
END:VEVENT
BEGIN:VEVENT
DTSTART;TZID=America/New_York:20260718T090000
DTEND;TZID=America/New_York:20260718T130000
DTSTAMP:20260421T061632
CREATED:20260420T193940Z
LAST-MODIFIED:20260420T193940Z
UID:10002501-1784365200-1784379600@southshorehomelifeandstyle.com
SUMMARY:Hingham Farmers Market
DESCRIPTION:Hingham Farmers Market has 40 vendors of locally made products\, fresh produce and highly skilled artisans. HFM supports SNAP with a matching program.
URL:https://southshorehomelifeandstyle.com/event/hingham-farmers-market/2026-07-18/
CATEGORIES:Family Friendly,Food and Drink,Home and Garden,Shopping
END:VEVENT
BEGIN:VEVENT
DTSTART;TZID=America/New_York:20260718T100000
DTEND;TZID=America/New_York:20260718T113000
DTSTAMP:20260421T061632
CREATED:20250912T193947Z
LAST-MODIFIED:20250912T193947Z
UID:10001693-1784368800-1784374200@southshorehomelifeandstyle.com
SUMMARY:Cranberry Harvest Tour
DESCRIPTION:Join us for a behind-the-scenes look at the fascinating world of cranberry farming! Our guided tours offer an engaging glimpse into the year-round growing cycle and rich 200-year history of the Massachusetts cranberry industry—the birthplace of cranberry cultivation. You will travel to a bog and witness one or more stages of the iconic wet cranberry harvest in action. Don’t miss this quintessential New England autumn experience.  \nNote: This is a harvest viewing tour only—you will not enter a flooded bog.  \nAll ages welcome; content is geared toward adults\, but guides are happy to engage younger guests.\nTours begin with check-in and school bus transport to the harvest location.\nRestrooms available only at the starting point.\nNo pets allowed.\nTicket includes 1 bag of fresh cranberries and a complimentary MA Cranberries t-shirt.\nTours are approximately 90 minutes depending on the distance from the meeting location to the bog.
URL:https://southshorehomelifeandstyle.com/event/cranberry-harvest-tour/2026-07-18/
CATEGORIES:Arts and Entertainment,Family Friendly,Food and Drink,Home and Garden
ATTACH;FMTTYPE=image/jpeg:https://southshorehomelifeandstyle.com/wp-content/uploads/2025/09/20250417141507.jpg
ORGANIZER;CN="Massachusetts Cranberries":MAILTO:kcahill@cranberries.org
END:VEVENT
BEGIN:VEVENT
DTSTART;TZID=America/New_York:20260718T100000
DTEND;TZID=America/New_York:20260718T130000
DTSTAMP:20260421T061632
CREATED:20250520T141217Z
LAST-MODIFIED:20250520T141217Z
UID:10001486-1784368800-1784379600@southshorehomelifeandstyle.com
SUMMARY:Pembroke Farmers Market
DESCRIPTION:Pembroke Farmers Market is a community farmers market featuring locally grown produce\, locally raised meats and eggs\, and local crafters and artists. The market is organized by a small committee of town residents. The market occurs almost every Saturday from June 7th to October 4th\, 2025. The market hosts various vendors\, food trucks\, family-friendly activities\, and even live music.
URL:https://southshorehomelifeandstyle.com/event/pembroke-farmers-market/2026-07-18/
LOCATION:Pembroke Community Center\, 128 Center St.\, Pembroke\, MA\, 128 Center St.\, Pembroke\, MA\, 02359\, United States
CATEGORIES:Arts and Entertainment,Family Friendly,Food and Drink,Home and Garden,Shopping
ORGANIZER;CN="KT McGraw (Co-Founder)":MAILTO:pemfarmersmarket@gmail.com
END:VEVENT
BEGIN:VEVENT
DTSTART;TZID=America/New_York:20260718T100000
DTEND;TZID=America/New_York:20260718T130000
DTSTAMP:20260421T061632
CREATED:20250602T134720Z
LAST-MODIFIED:20250602T134720Z
UID:10001554-1784368800-1784379600@southshorehomelifeandstyle.com
SUMMARY:Pembroke Farmers Market
DESCRIPTION:Pembroke Farmers Market is a community farmers market featuring locally grown produce\, locally raised meats and eggs\, and local crafters and artists. The market is organized by a small committee of town residents. The market includes food trucks\, local vendors\, small businesses\, family-friendly activities\, and even live music! It takes place almost every Saturday from 10am – 1pm at the Pembroke Community Center.
URL:https://southshorehomelifeandstyle.com/event/pembroke-farmers-market-2/2026-07-18/
LOCATION:Pembroke Community Center\, 128 Center St.\, Pembroke\, MA\, 128 Center St.\, Pembroke\, MA\, 02359\, United States
CATEGORIES:Arts and Entertainment,Family Friendly,Food and Drink,Home and Garden,Shopping
ATTACH;FMTTYPE=image/jpeg:https://southshorehomelifeandstyle.com/wp-content/uploads/2025/05/Screenshot-2025-05-20-11.09.19-AM.jpg
ORGANIZER;CN="KT McGraw (Co-Founder)":MAILTO:pemfarmersmarket@gmail.com
END:VEVENT
BEGIN:VEVENT
DTSTART;TZID=America/New_York:20260721T100000
DTEND;TZID=America/New_York:20260721T160000
DTSTAMP:20260421T061632
CREATED:20260402T184537Z
LAST-MODIFIED:20260402T184537Z
UID:10002479-1784628000-1784649600@southshorehomelifeandstyle.com
SUMMARY:Duxbury Hydrangea Festival and Garden Tour
DESCRIPTION:Online Garden Tour Ticket Sale begins May 2\nBack by popular demand\, The Community Garden Club of Duxbury is proud to announce its 2026 Duxbury Hydrangea Festival and Garden Tour. This year’s festival celebrates “Summer Styling” and features a garden tour of five beautiful seaside homes on Tuesday\, July 21st from 10:00 a.m. to 4:00 p.m.  Garden Tour will include tablescapes\, art\, music\, guided talks\, refreshments and more!  Online tickets to go on sale on May 2nd.\nOn Tuesday\, July 16th a “Summer Styling” hydrangea floral design presentation by Cornelia Reynolds\, owner of Consider the Lilies\, a flower shop in Duxbury\, will be offered at the Duxbury Free Library at 10:00 a.m. Cornelia will design a signature arrangement inspired by the coastal charm of its namesake\, ‘Duxbury Beach.’  Demonstration includes tablescapes\, refreshments and giveaways! This demonstration is free and open to the public. Advanced registration is required and begins June 21st.\nFor tickets and reservations:  www.communitygardenclubofduxbury.org
URL:https://southshorehomelifeandstyle.com/event/duxbury-hydrangea-festival-and-garden-tour/
LOCATION:Duxbury
CATEGORIES:Arts and Entertainment,Business and Networking,Food and Drink,Home and Garden
ATTACH;FMTTYPE=image/jpeg:https://southshorehomelifeandstyle.com/wp-content/uploads/2026/04/26_DHF_Firelight.jpg
ORGANIZER;CN="Community Garden Club of Duxbury":MAILTO:cgcduxbury@communitygardenclubofduxbury.org
END:VEVENT
BEGIN:VEVENT
DTSTART;TZID=America/New_York:20260725T080000
DTEND;TZID=America/New_York:20260725T170000
DTSTAMP:20260421T061632
CREATED:20260420T193940Z
LAST-MODIFIED:20260420T193940Z
UID:10002584-1784966400-1784998800@southshorehomelifeandstyle.com
SUMMARY:Hingham Farmers Market
DESCRIPTION:Hingham Farmers Market is a 10 month market operating in January\, February and March at Wompatuck State Park\, 204 Union Street and then May to November at 95 Station Street\,  Hingham\,  With 40 vendors in the summer market\, there is a community of people who care about fresh produce and supporting entrepreneurial vendors who create and make their own food products and support artisans who design and make their craft.
URL:https://southshorehomelifeandstyle.com/event/hingham-farmers-market-2/2026-07-25/
CATEGORIES:Family Friendly,Food and Drink,Home and Garden,Shopping
ATTACH;FMTTYPE=image/png:https://southshorehomelifeandstyle.com/wp-content/uploads/2026/04/HFM-logo-1.png
END:VEVENT
BEGIN:VEVENT
DTSTART;TZID=America/New_York:20260725T090000
DTEND;TZID=America/New_York:20260725T130000
DTSTAMP:20260421T061632
CREATED:20260420T193940Z
LAST-MODIFIED:20260420T193940Z
UID:10002502-1784970000-1784984400@southshorehomelifeandstyle.com
SUMMARY:Hingham Farmers Market
DESCRIPTION:Hingham Farmers Market has 40 vendors of locally made products\, fresh produce and highly skilled artisans. HFM supports SNAP with a matching program.
URL:https://southshorehomelifeandstyle.com/event/hingham-farmers-market/2026-07-25/
CATEGORIES:Family Friendly,Food and Drink,Home and Garden,Shopping
END:VEVENT
BEGIN:VEVENT
DTSTART;TZID=America/New_York:20260725T100000
DTEND;TZID=America/New_York:20260725T113000
DTSTAMP:20260421T061632
CREATED:20250912T193947Z
LAST-MODIFIED:20250912T193947Z
UID:10001694-1784973600-1784979000@southshorehomelifeandstyle.com
SUMMARY:Cranberry Harvest Tour
DESCRIPTION:Join us for a behind-the-scenes look at the fascinating world of cranberry farming! Our guided tours offer an engaging glimpse into the year-round growing cycle and rich 200-year history of the Massachusetts cranberry industry—the birthplace of cranberry cultivation. You will travel to a bog and witness one or more stages of the iconic wet cranberry harvest in action. Don’t miss this quintessential New England autumn experience.  \nNote: This is a harvest viewing tour only—you will not enter a flooded bog.  \nAll ages welcome; content is geared toward adults\, but guides are happy to engage younger guests.\nTours begin with check-in and school bus transport to the harvest location.\nRestrooms available only at the starting point.\nNo pets allowed.\nTicket includes 1 bag of fresh cranberries and a complimentary MA Cranberries t-shirt.\nTours are approximately 90 minutes depending on the distance from the meeting location to the bog.
URL:https://southshorehomelifeandstyle.com/event/cranberry-harvest-tour/2026-07-25/
CATEGORIES:Arts and Entertainment,Family Friendly,Food and Drink,Home and Garden
ATTACH;FMTTYPE=image/jpeg:https://southshorehomelifeandstyle.com/wp-content/uploads/2025/09/20250417141507.jpg
ORGANIZER;CN="Massachusetts Cranberries":MAILTO:kcahill@cranberries.org
END:VEVENT
BEGIN:VEVENT
DTSTART;TZID=America/New_York:20260725T100000
DTEND;TZID=America/New_York:20260725T130000
DTSTAMP:20260421T061632
CREATED:20250520T141217Z
LAST-MODIFIED:20250520T141217Z
UID:10001487-1784973600-1784984400@southshorehomelifeandstyle.com
SUMMARY:Pembroke Farmers Market
DESCRIPTION:Pembroke Farmers Market is a community farmers market featuring locally grown produce\, locally raised meats and eggs\, and local crafters and artists. The market is organized by a small committee of town residents. The market occurs almost every Saturday from June 7th to October 4th\, 2025. The market hosts various vendors\, food trucks\, family-friendly activities\, and even live music.
URL:https://southshorehomelifeandstyle.com/event/pembroke-farmers-market/2026-07-25/
LOCATION:Pembroke Community Center\, 128 Center St.\, Pembroke\, MA\, 128 Center St.\, Pembroke\, MA\, 02359\, United States
CATEGORIES:Arts and Entertainment,Family Friendly,Food and Drink,Home and Garden,Shopping
ORGANIZER;CN="KT McGraw (Co-Founder)":MAILTO:pemfarmersmarket@gmail.com
END:VEVENT
BEGIN:VEVENT
DTSTART;TZID=America/New_York:20260725T100000
DTEND;TZID=America/New_York:20260725T130000
DTSTAMP:20260421T061632
CREATED:20250602T134720Z
LAST-MODIFIED:20250602T134720Z
UID:10001555-1784973600-1784984400@southshorehomelifeandstyle.com
SUMMARY:Pembroke Farmers Market
DESCRIPTION:Pembroke Farmers Market is a community farmers market featuring locally grown produce\, locally raised meats and eggs\, and local crafters and artists. The market is organized by a small committee of town residents. The market includes food trucks\, local vendors\, small businesses\, family-friendly activities\, and even live music! It takes place almost every Saturday from 10am – 1pm at the Pembroke Community Center.
URL:https://southshorehomelifeandstyle.com/event/pembroke-farmers-market-2/2026-07-25/
LOCATION:Pembroke Community Center\, 128 Center St.\, Pembroke\, MA\, 128 Center St.\, Pembroke\, MA\, 02359\, United States
CATEGORIES:Arts and Entertainment,Family Friendly,Food and Drink,Home and Garden,Shopping
ATTACH;FMTTYPE=image/jpeg:https://southshorehomelifeandstyle.com/wp-content/uploads/2025/05/Screenshot-2025-05-20-11.09.19-AM.jpg
ORGANIZER;CN="KT McGraw (Co-Founder)":MAILTO:pemfarmersmarket@gmail.com
END:VEVENT
END:VCALENDAR