BEGIN:VCALENDAR
VERSION:2.0
PRODID:-//South Shore Home, Life &amp; Style - ECPv6.15.17.1//NONSGML v1.0//EN
CALSCALE:GREGORIAN
METHOD:PUBLISH
X-WR-CALNAME:South Shore Home, Life &amp; Style
X-ORIGINAL-URL:https://southshorehomelifeandstyle.com
X-WR-CALDESC:Events for South Shore Home, Life &amp; Style
REFRESH-INTERVAL;VALUE=DURATION:PT1H
X-Robots-Tag:noindex
X-PUBLISHED-TTL:PT1H
BEGIN:VTIMEZONE
TZID:America/New_York
BEGIN:DAYLIGHT
TZOFFSETFROM:-0500
TZOFFSETTO:-0400
TZNAME:EDT
DTSTART:20260308T070000
END:DAYLIGHT
BEGIN:STANDARD
TZOFFSETFROM:-0400
TZOFFSETTO:-0500
TZNAME:EST
DTSTART:20261101T060000
END:STANDARD
BEGIN:DAYLIGHT
TZOFFSETFROM:-0500
TZOFFSETTO:-0400
TZNAME:EDT
DTSTART:20270314T070000
END:DAYLIGHT
BEGIN:STANDARD
TZOFFSETFROM:-0400
TZOFFSETTO:-0500
TZNAME:EST
DTSTART:20271107T060000
END:STANDARD
BEGIN:DAYLIGHT
TZOFFSETFROM:-0500
TZOFFSETTO:-0400
TZNAME:EDT
DTSTART:20280312T070000
END:DAYLIGHT
BEGIN:STANDARD
TZOFFSETFROM:-0400
TZOFFSETTO:-0500
TZNAME:EST
DTSTART:20281105T060000
END:STANDARD
END:VTIMEZONE
BEGIN:VEVENT
DTSTART;TZID=America/New_York:20270306T080000
DTEND;TZID=America/New_York:20270306T170000
DTSTAMP:20260421T215235
CREATED:20260420T193940Z
LAST-MODIFIED:20260420T193940Z
UID:10002616-1804320000-1804352400@southshorehomelifeandstyle.com
SUMMARY:Hingham Farmers Market
DESCRIPTION:Hingham Farmers Market is a 10 month market operating in January\, February and March at Wompatuck State Park\, 204 Union Street and then May to November at 95 Station Street\,  Hingham\,  With 40 vendors in the summer market\, there is a community of people who care about fresh produce and supporting entrepreneurial vendors who create and make their own food products and support artisans who design and make their craft.
URL:https://southshorehomelifeandstyle.com/event/hingham-farmers-market-2/2027-03-06/
CATEGORIES:Family Friendly,Food and Drink,Home and Garden,Shopping
ATTACH;FMTTYPE=image/png:https://southshorehomelifeandstyle.com/wp-content/uploads/2026/04/HFM-logo-1.png
END:VEVENT
BEGIN:VEVENT
DTSTART;TZID=America/New_York:20270306T090000
DTEND;TZID=America/New_York:20270306T130000
DTSTAMP:20260421T215235
CREATED:20260420T193940Z
LAST-MODIFIED:20260420T193940Z
UID:10002534-1804323600-1804338000@southshorehomelifeandstyle.com
SUMMARY:Hingham Farmers Market
DESCRIPTION:Hingham Farmers Market has 40 vendors of locally made products\, fresh produce and highly skilled artisans. HFM supports SNAP with a matching program.
URL:https://southshorehomelifeandstyle.com/event/hingham-farmers-market/2027-03-06/
CATEGORIES:Family Friendly,Food and Drink,Home and Garden,Shopping
END:VEVENT
BEGIN:VEVENT
DTSTART;TZID=America/New_York:20270313T080000
DTEND;TZID=America/New_York:20270313T170000
DTSTAMP:20260421T215235
CREATED:20260420T193940Z
LAST-MODIFIED:20260420T193940Z
UID:10002617-1804924800-1804957200@southshorehomelifeandstyle.com
SUMMARY:Hingham Farmers Market
DESCRIPTION:Hingham Farmers Market is a 10 month market operating in January\, February and March at Wompatuck State Park\, 204 Union Street and then May to November at 95 Station Street\,  Hingham\,  With 40 vendors in the summer market\, there is a community of people who care about fresh produce and supporting entrepreneurial vendors who create and make their own food products and support artisans who design and make their craft.
URL:https://southshorehomelifeandstyle.com/event/hingham-farmers-market-2/2027-03-13/
CATEGORIES:Family Friendly,Food and Drink,Home and Garden,Shopping
ATTACH;FMTTYPE=image/png:https://southshorehomelifeandstyle.com/wp-content/uploads/2026/04/HFM-logo-1.png
END:VEVENT
BEGIN:VEVENT
DTSTART;TZID=America/New_York:20270313T090000
DTEND;TZID=America/New_York:20270313T130000
DTSTAMP:20260421T215235
CREATED:20260420T193940Z
LAST-MODIFIED:20260420T193940Z
UID:10002535-1804928400-1804942800@southshorehomelifeandstyle.com
SUMMARY:Hingham Farmers Market
DESCRIPTION:Hingham Farmers Market has 40 vendors of locally made products\, fresh produce and highly skilled artisans. HFM supports SNAP with a matching program.
URL:https://southshorehomelifeandstyle.com/event/hingham-farmers-market/2027-03-13/
CATEGORIES:Family Friendly,Food and Drink,Home and Garden,Shopping
END:VEVENT
BEGIN:VEVENT
DTSTART;TZID=America/New_York:20270320T080000
DTEND;TZID=America/New_York:20270320T170000
DTSTAMP:20260421T215235
CREATED:20260420T193940Z
LAST-MODIFIED:20260420T193940Z
UID:10002618-1805529600-1805562000@southshorehomelifeandstyle.com
SUMMARY:Hingham Farmers Market
DESCRIPTION:Hingham Farmers Market is a 10 month market operating in January\, February and March at Wompatuck State Park\, 204 Union Street and then May to November at 95 Station Street\,  Hingham\,  With 40 vendors in the summer market\, there is a community of people who care about fresh produce and supporting entrepreneurial vendors who create and make their own food products and support artisans who design and make their craft.
URL:https://southshorehomelifeandstyle.com/event/hingham-farmers-market-2/2027-03-20/
CATEGORIES:Family Friendly,Food and Drink,Home and Garden,Shopping
ATTACH;FMTTYPE=image/png:https://southshorehomelifeandstyle.com/wp-content/uploads/2026/04/HFM-logo-1.png
END:VEVENT
BEGIN:VEVENT
DTSTART;TZID=America/New_York:20270320T090000
DTEND;TZID=America/New_York:20270320T130000
DTSTAMP:20260421T215235
CREATED:20260420T193940Z
LAST-MODIFIED:20260420T193940Z
UID:10002536-1805533200-1805547600@southshorehomelifeandstyle.com
SUMMARY:Hingham Farmers Market
DESCRIPTION:Hingham Farmers Market has 40 vendors of locally made products\, fresh produce and highly skilled artisans. HFM supports SNAP with a matching program.
URL:https://southshorehomelifeandstyle.com/event/hingham-farmers-market/2027-03-20/
CATEGORIES:Family Friendly,Food and Drink,Home and Garden,Shopping
END:VEVENT
BEGIN:VEVENT
DTSTART;TZID=America/New_York:20270327T080000
DTEND;TZID=America/New_York:20270327T170000
DTSTAMP:20260421T215235
CREATED:20260420T193940Z
LAST-MODIFIED:20260420T193940Z
UID:10002619-1806134400-1806166800@southshorehomelifeandstyle.com
SUMMARY:Hingham Farmers Market
DESCRIPTION:Hingham Farmers Market is a 10 month market operating in January\, February and March at Wompatuck State Park\, 204 Union Street and then May to November at 95 Station Street\,  Hingham\,  With 40 vendors in the summer market\, there is a community of people who care about fresh produce and supporting entrepreneurial vendors who create and make their own food products and support artisans who design and make their craft.
URL:https://southshorehomelifeandstyle.com/event/hingham-farmers-market-2/2027-03-27/
CATEGORIES:Family Friendly,Food and Drink,Home and Garden,Shopping
ATTACH;FMTTYPE=image/png:https://southshorehomelifeandstyle.com/wp-content/uploads/2026/04/HFM-logo-1.png
END:VEVENT
BEGIN:VEVENT
DTSTART;TZID=America/New_York:20270327T090000
DTEND;TZID=America/New_York:20270327T130000
DTSTAMP:20260421T215235
CREATED:20260420T193940Z
LAST-MODIFIED:20260420T193940Z
UID:10002537-1806138000-1806152400@southshorehomelifeandstyle.com
SUMMARY:Hingham Farmers Market
DESCRIPTION:Hingham Farmers Market has 40 vendors of locally made products\, fresh produce and highly skilled artisans. HFM supports SNAP with a matching program.
URL:https://southshorehomelifeandstyle.com/event/hingham-farmers-market/2027-03-27/
CATEGORIES:Family Friendly,Food and Drink,Home and Garden,Shopping
END:VEVENT
END:VCALENDAR