BEGIN:VCALENDAR
VERSION:2.0
PRODID:-//South Shore Home, Life &amp; Style - ECPv6.15.17.1//NONSGML v1.0//EN
CALSCALE:GREGORIAN
METHOD:PUBLISH
X-ORIGINAL-URL:https://southshorehomelifeandstyle.com
X-WR-CALDESC:Events for South Shore Home, Life &amp; Style
REFRESH-INTERVAL;VALUE=DURATION:PT1H
X-Robots-Tag:noindex
X-PUBLISHED-TTL:PT1H
BEGIN:VTIMEZONE
TZID:America/New_York
BEGIN:DAYLIGHT
TZOFFSETFROM:-0500
TZOFFSETTO:-0400
TZNAME:EDT
DTSTART:20260308T070000
END:DAYLIGHT
BEGIN:STANDARD
TZOFFSETFROM:-0400
TZOFFSETTO:-0500
TZNAME:EST
DTSTART:20261101T060000
END:STANDARD
BEGIN:DAYLIGHT
TZOFFSETFROM:-0500
TZOFFSETTO:-0400
TZNAME:EDT
DTSTART:20270314T070000
END:DAYLIGHT
BEGIN:STANDARD
TZOFFSETFROM:-0400
TZOFFSETTO:-0500
TZNAME:EST
DTSTART:20271107T060000
END:STANDARD
BEGIN:DAYLIGHT
TZOFFSETFROM:-0500
TZOFFSETTO:-0400
TZNAME:EDT
DTSTART:20280312T070000
END:DAYLIGHT
BEGIN:STANDARD
TZOFFSETFROM:-0400
TZOFFSETTO:-0500
TZNAME:EST
DTSTART:20281105T060000
END:STANDARD
END:VTIMEZONE
BEGIN:VEVENT
DTSTART;TZID=America/New_York:20270904T080000
DTEND;TZID=America/New_York:20270904T170000
DTSTAMP:20260422T083720
CREATED:20260420T193940Z
LAST-MODIFIED:20260420T193940Z
UID:10002642-1820044800-1820077200@southshorehomelifeandstyle.com
SUMMARY:Hingham Farmers Market
DESCRIPTION:Hingham Farmers Market is a 10 month market operating in January\, February and March at Wompatuck State Park\, 204 Union Street and then May to November at 95 Station Street\,  Hingham\,  With 40 vendors in the summer market\, there is a community of people who care about fresh produce and supporting entrepreneurial vendors who create and make their own food products and support artisans who design and make their craft.
URL:https://southshorehomelifeandstyle.com/event/hingham-farmers-market-2/2027-09-04/
CATEGORIES:Family Friendly,Food and Drink,Home and Garden,Shopping
ATTACH;FMTTYPE=image/png:https://southshorehomelifeandstyle.com/wp-content/uploads/2026/04/HFM-logo-1.png
END:VEVENT
BEGIN:VEVENT
DTSTART;TZID=America/New_York:20270904T090000
DTEND;TZID=America/New_York:20270904T130000
DTSTAMP:20260422T083720
CREATED:20260420T193940Z
LAST-MODIFIED:20260420T193940Z
UID:10002560-1820048400-1820062800@southshorehomelifeandstyle.com
SUMMARY:Hingham Farmers Market
DESCRIPTION:Hingham Farmers Market has 40 vendors of locally made products\, fresh produce and highly skilled artisans. HFM supports SNAP with a matching program.
URL:https://southshorehomelifeandstyle.com/event/hingham-farmers-market/2027-09-04/
CATEGORIES:Family Friendly,Food and Drink,Home and Garden,Shopping
END:VEVENT
BEGIN:VEVENT
DTSTART;TZID=America/New_York:20270911T080000
DTEND;TZID=America/New_York:20270911T170000
DTSTAMP:20260422T083720
CREATED:20260420T193940Z
LAST-MODIFIED:20260420T193940Z
UID:10002643-1820649600-1820682000@southshorehomelifeandstyle.com
SUMMARY:Hingham Farmers Market
DESCRIPTION:Hingham Farmers Market is a 10 month market operating in January\, February and March at Wompatuck State Park\, 204 Union Street and then May to November at 95 Station Street\,  Hingham\,  With 40 vendors in the summer market\, there is a community of people who care about fresh produce and supporting entrepreneurial vendors who create and make their own food products and support artisans who design and make their craft.
URL:https://southshorehomelifeandstyle.com/event/hingham-farmers-market-2/2027-09-11/
CATEGORIES:Family Friendly,Food and Drink,Home and Garden,Shopping
ATTACH;FMTTYPE=image/png:https://southshorehomelifeandstyle.com/wp-content/uploads/2026/04/HFM-logo-1.png
END:VEVENT
BEGIN:VEVENT
DTSTART;TZID=America/New_York:20270911T090000
DTEND;TZID=America/New_York:20270911T130000
DTSTAMP:20260422T083720
CREATED:20260420T193940Z
LAST-MODIFIED:20260420T193940Z
UID:10002561-1820653200-1820667600@southshorehomelifeandstyle.com
SUMMARY:Hingham Farmers Market
DESCRIPTION:Hingham Farmers Market has 40 vendors of locally made products\, fresh produce and highly skilled artisans. HFM supports SNAP with a matching program.
URL:https://southshorehomelifeandstyle.com/event/hingham-farmers-market/2027-09-11/
CATEGORIES:Family Friendly,Food and Drink,Home and Garden,Shopping
END:VEVENT
BEGIN:VEVENT
DTSTART;TZID=America/New_York:20270918T080000
DTEND;TZID=America/New_York:20270918T170000
DTSTAMP:20260422T083720
CREATED:20260420T193940Z
LAST-MODIFIED:20260420T193940Z
UID:10002644-1821254400-1821286800@southshorehomelifeandstyle.com
SUMMARY:Hingham Farmers Market
DESCRIPTION:Hingham Farmers Market is a 10 month market operating in January\, February and March at Wompatuck State Park\, 204 Union Street and then May to November at 95 Station Street\,  Hingham\,  With 40 vendors in the summer market\, there is a community of people who care about fresh produce and supporting entrepreneurial vendors who create and make their own food products and support artisans who design and make their craft.
URL:https://southshorehomelifeandstyle.com/event/hingham-farmers-market-2/2027-09-18/
CATEGORIES:Family Friendly,Food and Drink,Home and Garden,Shopping
ATTACH;FMTTYPE=image/png:https://southshorehomelifeandstyle.com/wp-content/uploads/2026/04/HFM-logo-1.png
END:VEVENT
BEGIN:VEVENT
DTSTART;TZID=America/New_York:20270918T090000
DTEND;TZID=America/New_York:20270918T130000
DTSTAMP:20260422T083720
CREATED:20260420T193940Z
LAST-MODIFIED:20260420T193940Z
UID:10002562-1821258000-1821272400@southshorehomelifeandstyle.com
SUMMARY:Hingham Farmers Market
DESCRIPTION:Hingham Farmers Market has 40 vendors of locally made products\, fresh produce and highly skilled artisans. HFM supports SNAP with a matching program.
URL:https://southshorehomelifeandstyle.com/event/hingham-farmers-market/2027-09-18/
CATEGORIES:Family Friendly,Food and Drink,Home and Garden,Shopping
END:VEVENT
BEGIN:VEVENT
DTSTART;TZID=America/New_York:20270925T080000
DTEND;TZID=America/New_York:20270925T170000
DTSTAMP:20260422T083720
CREATED:20260420T193940Z
LAST-MODIFIED:20260420T193940Z
UID:10002645-1821859200-1821891600@southshorehomelifeandstyle.com
SUMMARY:Hingham Farmers Market
DESCRIPTION:Hingham Farmers Market is a 10 month market operating in January\, February and March at Wompatuck State Park\, 204 Union Street and then May to November at 95 Station Street\,  Hingham\,  With 40 vendors in the summer market\, there is a community of people who care about fresh produce and supporting entrepreneurial vendors who create and make their own food products and support artisans who design and make their craft.
URL:https://southshorehomelifeandstyle.com/event/hingham-farmers-market-2/2027-09-25/
CATEGORIES:Family Friendly,Food and Drink,Home and Garden,Shopping
ATTACH;FMTTYPE=image/png:https://southshorehomelifeandstyle.com/wp-content/uploads/2026/04/HFM-logo-1.png
END:VEVENT
BEGIN:VEVENT
DTSTART;TZID=America/New_York:20270925T090000
DTEND;TZID=America/New_York:20270925T130000
DTSTAMP:20260422T083720
CREATED:20260420T193940Z
LAST-MODIFIED:20260420T193940Z
UID:10002563-1821862800-1821877200@southshorehomelifeandstyle.com
SUMMARY:Hingham Farmers Market
DESCRIPTION:Hingham Farmers Market has 40 vendors of locally made products\, fresh produce and highly skilled artisans. HFM supports SNAP with a matching program.
URL:https://southshorehomelifeandstyle.com/event/hingham-farmers-market/2027-09-25/
CATEGORIES:Family Friendly,Food and Drink,Home and Garden,Shopping
END:VEVENT
END:VCALENDAR