BEGIN:VCALENDAR
VERSION:2.0
PRODID:-//South Shore Home, Life &amp; Style - ECPv6.15.17.1//NONSGML v1.0//EN
CALSCALE:GREGORIAN
METHOD:PUBLISH
X-ORIGINAL-URL:https://southshorehomelifeandstyle.com
X-WR-CALDESC:Events for South Shore Home, Life &amp; Style
REFRESH-INTERVAL;VALUE=DURATION:PT1H
X-Robots-Tag:noindex
X-PUBLISHED-TTL:PT1H
BEGIN:VTIMEZONE
TZID:America/New_York
BEGIN:DAYLIGHT
TZOFFSETFROM:-0500
TZOFFSETTO:-0400
TZNAME:EDT
DTSTART:20250309T070000
END:DAYLIGHT
BEGIN:STANDARD
TZOFFSETFROM:-0400
TZOFFSETTO:-0500
TZNAME:EST
DTSTART:20251102T060000
END:STANDARD
BEGIN:DAYLIGHT
TZOFFSETFROM:-0500
TZOFFSETTO:-0400
TZNAME:EDT
DTSTART:20260308T070000
END:DAYLIGHT
BEGIN:STANDARD
TZOFFSETFROM:-0400
TZOFFSETTO:-0500
TZNAME:EST
DTSTART:20261101T060000
END:STANDARD
BEGIN:DAYLIGHT
TZOFFSETFROM:-0500
TZOFFSETTO:-0400
TZNAME:EDT
DTSTART:20270314T070000
END:DAYLIGHT
BEGIN:STANDARD
TZOFFSETFROM:-0400
TZOFFSETTO:-0500
TZNAME:EST
DTSTART:20271107T060000
END:STANDARD
END:VTIMEZONE
BEGIN:VEVENT
DTSTART;TZID=America/New_York:20260502T113000
DTEND;TZID=America/New_York:20260502T150000
DTSTAMP:20260419T100648
CREATED:20260316T213713Z
LAST-MODIFIED:20260316T213713Z
UID:10002463-1777721400-1777734000@southshorehomelifeandstyle.com
SUMMARY:Keep Our Farm a Farm: Celebrating Our Farm. Growing Its Future.
DESCRIPTION:Come experience Holly Hill Farm on Cohasset Common!\nLive music\nBeer Garden (ages 21+)\nFood Trucks\nActivities \nFriends of Holly Hill Farm (FHHF) announces a free community celebration event on Cohasset Common on Saturday\, May 2\, 2026 from 11:30 am – 3:00 pm. The event celebrates over 20 years of growing\, teaching\, and serving the community\, and will share exciting new plans for growing its future. The event\, Keep Our Farm a Farm: Celebrating Our Farm. Growing Its Future. welcomes people of all ages to: learn about the farm; enjoy local food trucks\, a beer garden (for ages 21+)\, and live music; participate in hands-on workshop activities (while supplies last); and join in the festivities with the community. \nFriends of Holly Hill Farm will welcome local food trucks by: Del’s Lemonade\, Le Petite Pouf\, Lolly Jolly Waffle Bar\, Miss Emily’s Food Truck\, Mom on the Go\, South Shore Taco Guy\, and Untold Brewing (beer garden). Local music will be performed by: Mamasteph Music\, Coldstart\, and The Gratefuls. \nAttendees are welcome to drop by anytime during the scheduled event\, no tickets are required. A rain date of May 3\, 2026 has been secured. To learn more about the event and to support or stay connected to our Keep Our Farm a Farm campaign go to: hollyhillfarm.org/keep-our-farm-a-farm \nTo protect and preserve the natural treasure of Holly Hill Farm\, and its ability to serve and educate the community in the future\, Friends of Holly Hill Farm created a two-step plan. The Keep Our Farm a Farm campaign will support the non-profit’s ability to bring this plan to life and grow its future. Thanks to the\ngenerosity of supporters\, the non-profit has raised funding to support the first step in its plan\, to purchase the 5.23 acres of land which it has been leasing from the White Family for over two decades. During the event on Cohasset Common\, the community can learn more about the Keep Our Farm a Farm\ncampaign\, including step two of its plan\, which includes the restoration of its historic main barn\, the creation of an indoor/outdoor education and fundraising space\, and improvements to accessibility\, parking\, farming operations\, and more.
URL:https://southshorehomelifeandstyle.com/event/keep-our-farm-a-farm-celebrating-our-farm-growing-its-future/
LOCATION:Cohasset Commons\, Highland Ave\, Cohasset\, 02025\, United States
CATEGORIES:Arts and Entertainment,Family Friendly,Food and Drink
ATTACH;FMTTYPE=image/jpeg:https://southshorehomelifeandstyle.com/wp-content/uploads/2026/03/HHF-May-2nd-Event-PRINT-EXTERNAL-LETTER-8.5-x-11-in.jpg
ORGANIZER;CN="Friends of Holly Hill Farm":MAILTO:info@hollyhillfarm.org
END:VEVENT
END:VCALENDAR