BEGIN:VCALENDAR
VERSION:2.0
PRODID:-//South Shore Home, Life &amp; Style - ECPv6.15.17.1//NONSGML v1.0//EN
CALSCALE:GREGORIAN
METHOD:PUBLISH
X-WR-CALNAME:South Shore Home, Life &amp; Style
X-ORIGINAL-URL:https://southshorehomelifeandstyle.com
X-WR-CALDESC:Events for South Shore Home, Life &amp; Style
REFRESH-INTERVAL;VALUE=DURATION:PT1H
X-Robots-Tag:noindex
X-PUBLISHED-TTL:PT1H
BEGIN:VTIMEZONE
TZID:America/New_York
BEGIN:DAYLIGHT
TZOFFSETFROM:-0500
TZOFFSETTO:-0400
TZNAME:EDT
DTSTART:20250309T070000
END:DAYLIGHT
BEGIN:STANDARD
TZOFFSETFROM:-0400
TZOFFSETTO:-0500
TZNAME:EST
DTSTART:20251102T060000
END:STANDARD
BEGIN:DAYLIGHT
TZOFFSETFROM:-0500
TZOFFSETTO:-0400
TZNAME:EDT
DTSTART:20260308T070000
END:DAYLIGHT
BEGIN:STANDARD
TZOFFSETFROM:-0400
TZOFFSETTO:-0500
TZNAME:EST
DTSTART:20261101T060000
END:STANDARD
BEGIN:DAYLIGHT
TZOFFSETFROM:-0500
TZOFFSETTO:-0400
TZNAME:EDT
DTSTART:20270314T070000
END:DAYLIGHT
BEGIN:STANDARD
TZOFFSETFROM:-0400
TZOFFSETTO:-0500
TZNAME:EST
DTSTART:20271107T060000
END:STANDARD
END:VTIMEZONE
BEGIN:VEVENT
DTSTART;TZID=America/New_York:20260502T090000
DTEND;TZID=America/New_York:20260502T130000
DTSTAMP:20260421T085942
CREATED:20260420T193940Z
LAST-MODIFIED:20260420T193940Z
UID:10002490-1777712400-1777726800@southshorehomelifeandstyle.com
SUMMARY:Hingham Farmers Market
DESCRIPTION:Hingham Farmers Market has 40 vendors of locally made products\, fresh produce and highly skilled artisans. HFM supports SNAP with a matching program.
URL:https://southshorehomelifeandstyle.com/event/hingham-farmers-market/2026-05-02/
CATEGORIES:Family Friendly,Food and Drink,Home and Garden,Shopping
END:VEVENT
BEGIN:VEVENT
DTSTART;TZID=America/New_York:20260509T090000
DTEND;TZID=America/New_York:20260509T130000
DTSTAMP:20260421T085942
CREATED:20260420T193940Z
LAST-MODIFIED:20260420T193940Z
UID:10002491-1778317200-1778331600@southshorehomelifeandstyle.com
SUMMARY:Hingham Farmers Market
DESCRIPTION:Hingham Farmers Market has 40 vendors of locally made products\, fresh produce and highly skilled artisans. HFM supports SNAP with a matching program.
URL:https://southshorehomelifeandstyle.com/event/hingham-farmers-market/2026-05-09/
CATEGORIES:Family Friendly,Food and Drink,Home and Garden,Shopping
END:VEVENT
BEGIN:VEVENT
DTSTART;TZID=America/New_York:20260516T090000
DTEND;TZID=America/New_York:20260516T130000
DTSTAMP:20260421T085942
CREATED:20260420T193940Z
LAST-MODIFIED:20260420T193940Z
UID:10002492-1778922000-1778936400@southshorehomelifeandstyle.com
SUMMARY:Hingham Farmers Market
DESCRIPTION:Hingham Farmers Market has 40 vendors of locally made products\, fresh produce and highly skilled artisans. HFM supports SNAP with a matching program.
URL:https://southshorehomelifeandstyle.com/event/hingham-farmers-market/2026-05-16/
CATEGORIES:Family Friendly,Food and Drink,Home and Garden,Shopping
END:VEVENT
BEGIN:VEVENT
DTSTART;TZID=America/New_York:20260523T090000
DTEND;TZID=America/New_York:20260523T130000
DTSTAMP:20260421T085942
CREATED:20260420T193940Z
LAST-MODIFIED:20260420T193940Z
UID:10002493-1779526800-1779541200@southshorehomelifeandstyle.com
SUMMARY:Hingham Farmers Market
DESCRIPTION:Hingham Farmers Market has 40 vendors of locally made products\, fresh produce and highly skilled artisans. HFM supports SNAP with a matching program.
URL:https://southshorehomelifeandstyle.com/event/hingham-farmers-market/2026-05-23/
CATEGORIES:Family Friendly,Food and Drink,Home and Garden,Shopping
END:VEVENT
BEGIN:VEVENT
DTSTART;TZID=America/New_York:20260530T090000
DTEND;TZID=America/New_York:20260530T130000
DTSTAMP:20260421T085942
CREATED:20260420T193940Z
LAST-MODIFIED:20260420T193940Z
UID:10002494-1780131600-1780146000@southshorehomelifeandstyle.com
SUMMARY:Hingham Farmers Market
DESCRIPTION:Hingham Farmers Market has 40 vendors of locally made products\, fresh produce and highly skilled artisans. HFM supports SNAP with a matching program.
URL:https://southshorehomelifeandstyle.com/event/hingham-farmers-market/2026-05-30/
CATEGORIES:Family Friendly,Food and Drink,Home and Garden,Shopping
END:VEVENT
BEGIN:VEVENT
DTSTART;TZID=America/New_York:20260606T090000
DTEND;TZID=America/New_York:20260606T130000
DTSTAMP:20260421T085942
CREATED:20260420T193940Z
LAST-MODIFIED:20260420T193940Z
UID:10002495-1780736400-1780750800@southshorehomelifeandstyle.com
SUMMARY:Hingham Farmers Market
DESCRIPTION:Hingham Farmers Market has 40 vendors of locally made products\, fresh produce and highly skilled artisans. HFM supports SNAP with a matching program.
URL:https://southshorehomelifeandstyle.com/event/hingham-farmers-market/2026-06-06/
CATEGORIES:Family Friendly,Food and Drink,Home and Garden,Shopping
END:VEVENT
BEGIN:VEVENT
DTSTART;TZID=America/New_York:20260613T090000
DTEND;TZID=America/New_York:20260613T130000
DTSTAMP:20260421T085942
CREATED:20260420T193940Z
LAST-MODIFIED:20260420T193940Z
UID:10002496-1781341200-1781355600@southshorehomelifeandstyle.com
SUMMARY:Hingham Farmers Market
DESCRIPTION:Hingham Farmers Market has 40 vendors of locally made products\, fresh produce and highly skilled artisans. HFM supports SNAP with a matching program.
URL:https://southshorehomelifeandstyle.com/event/hingham-farmers-market/2026-06-13/
CATEGORIES:Family Friendly,Food and Drink,Home and Garden,Shopping
END:VEVENT
BEGIN:VEVENT
DTSTART;TZID=America/New_York:20260620T090000
DTEND;TZID=America/New_York:20260620T130000
DTSTAMP:20260421T085942
CREATED:20260420T193940Z
LAST-MODIFIED:20260420T193940Z
UID:10002497-1781946000-1781960400@southshorehomelifeandstyle.com
SUMMARY:Hingham Farmers Market
DESCRIPTION:Hingham Farmers Market has 40 vendors of locally made products\, fresh produce and highly skilled artisans. HFM supports SNAP with a matching program.
URL:https://southshorehomelifeandstyle.com/event/hingham-farmers-market/2026-06-20/
CATEGORIES:Family Friendly,Food and Drink,Home and Garden,Shopping
END:VEVENT
BEGIN:VEVENT
DTSTART;TZID=America/New_York:20260627T090000
DTEND;TZID=America/New_York:20260627T130000
DTSTAMP:20260421T085942
CREATED:20260420T193940Z
LAST-MODIFIED:20260420T193940Z
UID:10002498-1782550800-1782565200@southshorehomelifeandstyle.com
SUMMARY:Hingham Farmers Market
DESCRIPTION:Hingham Farmers Market has 40 vendors of locally made products\, fresh produce and highly skilled artisans. HFM supports SNAP with a matching program.
URL:https://southshorehomelifeandstyle.com/event/hingham-farmers-market/2026-06-27/
CATEGORIES:Family Friendly,Food and Drink,Home and Garden,Shopping
END:VEVENT
BEGIN:VEVENT
DTSTART;TZID=America/New_York:20260704T090000
DTEND;TZID=America/New_York:20260704T130000
DTSTAMP:20260421T085942
CREATED:20260420T193940Z
LAST-MODIFIED:20260420T193940Z
UID:10002499-1783155600-1783170000@southshorehomelifeandstyle.com
SUMMARY:Hingham Farmers Market
DESCRIPTION:Hingham Farmers Market has 40 vendors of locally made products\, fresh produce and highly skilled artisans. HFM supports SNAP with a matching program.
URL:https://southshorehomelifeandstyle.com/event/hingham-farmers-market/2026-07-04/
CATEGORIES:Family Friendly,Food and Drink,Home and Garden,Shopping
END:VEVENT
BEGIN:VEVENT
DTSTART;TZID=America/New_York:20260711T090000
DTEND;TZID=America/New_York:20260711T130000
DTSTAMP:20260421T085942
CREATED:20260420T193940Z
LAST-MODIFIED:20260420T193940Z
UID:10002500-1783760400-1783774800@southshorehomelifeandstyle.com
SUMMARY:Hingham Farmers Market
DESCRIPTION:Hingham Farmers Market has 40 vendors of locally made products\, fresh produce and highly skilled artisans. HFM supports SNAP with a matching program.
URL:https://southshorehomelifeandstyle.com/event/hingham-farmers-market/2026-07-11/
CATEGORIES:Family Friendly,Food and Drink,Home and Garden,Shopping
END:VEVENT
BEGIN:VEVENT
DTSTART;TZID=America/New_York:20260718T090000
DTEND;TZID=America/New_York:20260718T130000
DTSTAMP:20260421T085942
CREATED:20260420T193940Z
LAST-MODIFIED:20260420T193940Z
UID:10002501-1784365200-1784379600@southshorehomelifeandstyle.com
SUMMARY:Hingham Farmers Market
DESCRIPTION:Hingham Farmers Market has 40 vendors of locally made products\, fresh produce and highly skilled artisans. HFM supports SNAP with a matching program.
URL:https://southshorehomelifeandstyle.com/event/hingham-farmers-market/2026-07-18/
CATEGORIES:Family Friendly,Food and Drink,Home and Garden,Shopping
END:VEVENT
BEGIN:VEVENT
DTSTART;TZID=America/New_York:20260725T090000
DTEND;TZID=America/New_York:20260725T130000
DTSTAMP:20260421T085942
CREATED:20260420T193940Z
LAST-MODIFIED:20260420T193940Z
UID:10002502-1784970000-1784984400@southshorehomelifeandstyle.com
SUMMARY:Hingham Farmers Market
DESCRIPTION:Hingham Farmers Market has 40 vendors of locally made products\, fresh produce and highly skilled artisans. HFM supports SNAP with a matching program.
URL:https://southshorehomelifeandstyle.com/event/hingham-farmers-market/2026-07-25/
CATEGORIES:Family Friendly,Food and Drink,Home and Garden,Shopping
END:VEVENT
BEGIN:VEVENT
DTSTART;TZID=America/New_York:20260801T090000
DTEND;TZID=America/New_York:20260801T130000
DTSTAMP:20260421T085942
CREATED:20260420T193940Z
LAST-MODIFIED:20260420T193940Z
UID:10002503-1785574800-1785589200@southshorehomelifeandstyle.com
SUMMARY:Hingham Farmers Market
DESCRIPTION:Hingham Farmers Market has 40 vendors of locally made products\, fresh produce and highly skilled artisans. HFM supports SNAP with a matching program.
URL:https://southshorehomelifeandstyle.com/event/hingham-farmers-market/2026-08-01/
CATEGORIES:Family Friendly,Food and Drink,Home and Garden,Shopping
END:VEVENT
BEGIN:VEVENT
DTSTART;TZID=America/New_York:20260808T090000
DTEND;TZID=America/New_York:20260808T130000
DTSTAMP:20260421T085942
CREATED:20260420T193940Z
LAST-MODIFIED:20260420T193940Z
UID:10002504-1786179600-1786194000@southshorehomelifeandstyle.com
SUMMARY:Hingham Farmers Market
DESCRIPTION:Hingham Farmers Market has 40 vendors of locally made products\, fresh produce and highly skilled artisans. HFM supports SNAP with a matching program.
URL:https://southshorehomelifeandstyle.com/event/hingham-farmers-market/2026-08-08/
CATEGORIES:Family Friendly,Food and Drink,Home and Garden,Shopping
END:VEVENT
BEGIN:VEVENT
DTSTART;TZID=America/New_York:20260815T090000
DTEND;TZID=America/New_York:20260815T130000
DTSTAMP:20260421T085942
CREATED:20260420T193940Z
LAST-MODIFIED:20260420T193940Z
UID:10002505-1786784400-1786798800@southshorehomelifeandstyle.com
SUMMARY:Hingham Farmers Market
DESCRIPTION:Hingham Farmers Market has 40 vendors of locally made products\, fresh produce and highly skilled artisans. HFM supports SNAP with a matching program.
URL:https://southshorehomelifeandstyle.com/event/hingham-farmers-market/2026-08-15/
CATEGORIES:Family Friendly,Food and Drink,Home and Garden,Shopping
END:VEVENT
BEGIN:VEVENT
DTSTART;TZID=America/New_York:20260822T090000
DTEND;TZID=America/New_York:20260822T130000
DTSTAMP:20260421T085942
CREATED:20260420T193940Z
LAST-MODIFIED:20260420T193940Z
UID:10002506-1787389200-1787403600@southshorehomelifeandstyle.com
SUMMARY:Hingham Farmers Market
DESCRIPTION:Hingham Farmers Market has 40 vendors of locally made products\, fresh produce and highly skilled artisans. HFM supports SNAP with a matching program.
URL:https://southshorehomelifeandstyle.com/event/hingham-farmers-market/2026-08-22/
CATEGORIES:Family Friendly,Food and Drink,Home and Garden,Shopping
END:VEVENT
BEGIN:VEVENT
DTSTART;TZID=America/New_York:20260829T090000
DTEND;TZID=America/New_York:20260829T130000
DTSTAMP:20260421T085942
CREATED:20260420T193940Z
LAST-MODIFIED:20260420T193940Z
UID:10002507-1787994000-1788008400@southshorehomelifeandstyle.com
SUMMARY:Hingham Farmers Market
DESCRIPTION:Hingham Farmers Market has 40 vendors of locally made products\, fresh produce and highly skilled artisans. HFM supports SNAP with a matching program.
URL:https://southshorehomelifeandstyle.com/event/hingham-farmers-market/2026-08-29/
CATEGORIES:Family Friendly,Food and Drink,Home and Garden,Shopping
END:VEVENT
BEGIN:VEVENT
DTSTART;TZID=America/New_York:20260905T090000
DTEND;TZID=America/New_York:20260905T130000
DTSTAMP:20260421T085942
CREATED:20260420T193940Z
LAST-MODIFIED:20260420T193940Z
UID:10002508-1788598800-1788613200@southshorehomelifeandstyle.com
SUMMARY:Hingham Farmers Market
DESCRIPTION:Hingham Farmers Market has 40 vendors of locally made products\, fresh produce and highly skilled artisans. HFM supports SNAP with a matching program.
URL:https://southshorehomelifeandstyle.com/event/hingham-farmers-market/2026-09-05/
CATEGORIES:Family Friendly,Food and Drink,Home and Garden,Shopping
END:VEVENT
BEGIN:VEVENT
DTSTART;TZID=America/New_York:20260912T090000
DTEND;TZID=America/New_York:20260912T130000
DTSTAMP:20260421T085942
CREATED:20260420T193940Z
LAST-MODIFIED:20260420T193940Z
UID:10002509-1789203600-1789218000@southshorehomelifeandstyle.com
SUMMARY:Hingham Farmers Market
DESCRIPTION:Hingham Farmers Market has 40 vendors of locally made products\, fresh produce and highly skilled artisans. HFM supports SNAP with a matching program.
URL:https://southshorehomelifeandstyle.com/event/hingham-farmers-market/2026-09-12/
CATEGORIES:Family Friendly,Food and Drink,Home and Garden,Shopping
END:VEVENT
BEGIN:VEVENT
DTSTART;TZID=America/New_York:20260919T090000
DTEND;TZID=America/New_York:20260919T130000
DTSTAMP:20260421T085942
CREATED:20260420T193940Z
LAST-MODIFIED:20260420T193940Z
UID:10002510-1789808400-1789822800@southshorehomelifeandstyle.com
SUMMARY:Hingham Farmers Market
DESCRIPTION:Hingham Farmers Market has 40 vendors of locally made products\, fresh produce and highly skilled artisans. HFM supports SNAP with a matching program.
URL:https://southshorehomelifeandstyle.com/event/hingham-farmers-market/2026-09-19/
CATEGORIES:Family Friendly,Food and Drink,Home and Garden,Shopping
END:VEVENT
BEGIN:VEVENT
DTSTART;TZID=America/New_York:20260926T090000
DTEND;TZID=America/New_York:20260926T130000
DTSTAMP:20260421T085942
CREATED:20260420T193940Z
LAST-MODIFIED:20260420T193940Z
UID:10002511-1790413200-1790427600@southshorehomelifeandstyle.com
SUMMARY:Hingham Farmers Market
DESCRIPTION:Hingham Farmers Market has 40 vendors of locally made products\, fresh produce and highly skilled artisans. HFM supports SNAP with a matching program.
URL:https://southshorehomelifeandstyle.com/event/hingham-farmers-market/2026-09-26/
CATEGORIES:Family Friendly,Food and Drink,Home and Garden,Shopping
END:VEVENT
BEGIN:VEVENT
DTSTART;TZID=America/New_York:20261003T090000
DTEND;TZID=America/New_York:20261003T130000
DTSTAMP:20260421T085942
CREATED:20260420T193940Z
LAST-MODIFIED:20260420T193940Z
UID:10002512-1791018000-1791032400@southshorehomelifeandstyle.com
SUMMARY:Hingham Farmers Market
DESCRIPTION:Hingham Farmers Market has 40 vendors of locally made products\, fresh produce and highly skilled artisans. HFM supports SNAP with a matching program.
URL:https://southshorehomelifeandstyle.com/event/hingham-farmers-market/2026-10-03/
CATEGORIES:Family Friendly,Food and Drink,Home and Garden,Shopping
END:VEVENT
BEGIN:VEVENT
DTSTART;TZID=America/New_York:20261010T090000
DTEND;TZID=America/New_York:20261010T130000
DTSTAMP:20260421T085942
CREATED:20260420T193940Z
LAST-MODIFIED:20260420T193940Z
UID:10002513-1791622800-1791637200@southshorehomelifeandstyle.com
SUMMARY:Hingham Farmers Market
DESCRIPTION:Hingham Farmers Market has 40 vendors of locally made products\, fresh produce and highly skilled artisans. HFM supports SNAP with a matching program.
URL:https://southshorehomelifeandstyle.com/event/hingham-farmers-market/2026-10-10/
CATEGORIES:Family Friendly,Food and Drink,Home and Garden,Shopping
END:VEVENT
BEGIN:VEVENT
DTSTART;TZID=America/New_York:20261017T090000
DTEND;TZID=America/New_York:20261017T130000
DTSTAMP:20260421T085942
CREATED:20260420T193940Z
LAST-MODIFIED:20260420T193940Z
UID:10002514-1792227600-1792242000@southshorehomelifeandstyle.com
SUMMARY:Hingham Farmers Market
DESCRIPTION:Hingham Farmers Market has 40 vendors of locally made products\, fresh produce and highly skilled artisans. HFM supports SNAP with a matching program.
URL:https://southshorehomelifeandstyle.com/event/hingham-farmers-market/2026-10-17/
CATEGORIES:Family Friendly,Food and Drink,Home and Garden,Shopping
END:VEVENT
BEGIN:VEVENT
DTSTART;TZID=America/New_York:20261024T090000
DTEND;TZID=America/New_York:20261024T130000
DTSTAMP:20260421T085942
CREATED:20260420T193940Z
LAST-MODIFIED:20260420T193940Z
UID:10002515-1792832400-1792846800@southshorehomelifeandstyle.com
SUMMARY:Hingham Farmers Market
DESCRIPTION:Hingham Farmers Market has 40 vendors of locally made products\, fresh produce and highly skilled artisans. HFM supports SNAP with a matching program.
URL:https://southshorehomelifeandstyle.com/event/hingham-farmers-market/2026-10-24/
CATEGORIES:Family Friendly,Food and Drink,Home and Garden,Shopping
END:VEVENT
BEGIN:VEVENT
DTSTART;TZID=America/New_York:20261031T090000
DTEND;TZID=America/New_York:20261031T130000
DTSTAMP:20260421T085942
CREATED:20260420T193940Z
LAST-MODIFIED:20260420T193940Z
UID:10002516-1793437200-1793451600@southshorehomelifeandstyle.com
SUMMARY:Hingham Farmers Market
DESCRIPTION:Hingham Farmers Market has 40 vendors of locally made products\, fresh produce and highly skilled artisans. HFM supports SNAP with a matching program.
URL:https://southshorehomelifeandstyle.com/event/hingham-farmers-market/2026-10-31/
CATEGORIES:Family Friendly,Food and Drink,Home and Garden,Shopping
END:VEVENT
BEGIN:VEVENT
DTSTART;TZID=America/New_York:20261107T090000
DTEND;TZID=America/New_York:20261107T130000
DTSTAMP:20260421T085942
CREATED:20260420T193940Z
LAST-MODIFIED:20260420T193940Z
UID:10002517-1794042000-1794056400@southshorehomelifeandstyle.com
SUMMARY:Hingham Farmers Market
DESCRIPTION:Hingham Farmers Market has 40 vendors of locally made products\, fresh produce and highly skilled artisans. HFM supports SNAP with a matching program.
URL:https://southshorehomelifeandstyle.com/event/hingham-farmers-market/2026-11-07/
CATEGORIES:Family Friendly,Food and Drink,Home and Garden,Shopping
END:VEVENT
BEGIN:VEVENT
DTSTART;TZID=America/New_York:20261114T090000
DTEND;TZID=America/New_York:20261114T130000
DTSTAMP:20260421T085942
CREATED:20260420T193940Z
LAST-MODIFIED:20260420T193940Z
UID:10002518-1794646800-1794661200@southshorehomelifeandstyle.com
SUMMARY:Hingham Farmers Market
DESCRIPTION:Hingham Farmers Market has 40 vendors of locally made products\, fresh produce and highly skilled artisans. HFM supports SNAP with a matching program.
URL:https://southshorehomelifeandstyle.com/event/hingham-farmers-market/2026-11-14/
CATEGORIES:Family Friendly,Food and Drink,Home and Garden,Shopping
END:VEVENT
BEGIN:VEVENT
DTSTART;TZID=America/New_York:20261121T090000
DTEND;TZID=America/New_York:20261121T130000
DTSTAMP:20260421T085942
CREATED:20260420T193940Z
LAST-MODIFIED:20260420T193940Z
UID:10002519-1795251600-1795266000@southshorehomelifeandstyle.com
SUMMARY:Hingham Farmers Market
DESCRIPTION:Hingham Farmers Market has 40 vendors of locally made products\, fresh produce and highly skilled artisans. HFM supports SNAP with a matching program.
URL:https://southshorehomelifeandstyle.com/event/hingham-farmers-market/2026-11-21/
CATEGORIES:Family Friendly,Food and Drink,Home and Garden,Shopping
END:VEVENT
END:VCALENDAR