BEGIN:VCALENDAR
VERSION:2.0
PRODID:-//South Shore Home, Life &amp; Style - ECPv6.15.17.1//NONSGML v1.0//EN
CALSCALE:GREGORIAN
METHOD:PUBLISH
X-WR-CALNAME:South Shore Home, Life &amp; Style
X-ORIGINAL-URL:https://southshorehomelifeandstyle.com
X-WR-CALDESC:Events for South Shore Home, Life &amp; Style
REFRESH-INTERVAL;VALUE=DURATION:PT1H
X-Robots-Tag:noindex
X-PUBLISHED-TTL:PT1H
BEGIN:VTIMEZONE
TZID:America/New_York
BEGIN:DAYLIGHT
TZOFFSETFROM:-0500
TZOFFSETTO:-0400
TZNAME:EDT
DTSTART:20240310T070000
END:DAYLIGHT
BEGIN:STANDARD
TZOFFSETFROM:-0400
TZOFFSETTO:-0500
TZNAME:EST
DTSTART:20241103T060000
END:STANDARD
BEGIN:DAYLIGHT
TZOFFSETFROM:-0500
TZOFFSETTO:-0400
TZNAME:EDT
DTSTART:20250309T070000
END:DAYLIGHT
BEGIN:STANDARD
TZOFFSETFROM:-0400
TZOFFSETTO:-0500
TZNAME:EST
DTSTART:20251102T060000
END:STANDARD
BEGIN:DAYLIGHT
TZOFFSETFROM:-0500
TZOFFSETTO:-0400
TZNAME:EDT
DTSTART:20260308T070000
END:DAYLIGHT
BEGIN:STANDARD
TZOFFSETFROM:-0400
TZOFFSETTO:-0500
TZNAME:EST
DTSTART:20261101T060000
END:STANDARD
END:VTIMEZONE
BEGIN:VEVENT
DTSTART;TZID=America/New_York:20251115T090000
DTEND;TZID=America/New_York:20251115T150000
DTSTAMP:20260424T042408
CREATED:20251103T125751Z
LAST-MODIFIED:20251103T125938Z
UID:10002353-1763197200-1763218800@southshorehomelifeandstyle.com
SUMMARY:Old Stables Vintage Market
DESCRIPTION:Holiday Market full of vintage Christmas; local makers\, with unique one-off a kind gifts and decor! Come sip hot chocolate while shopping in a quintessential New England setting!\nFirst Parish church Norwell
URL:https://southshorehomelifeandstyle.com/event/old-stables-vintage-market/
LOCATION:first parish norwell\, 24 River Street\, Norwell\, MA\, 02061\, United States
CATEGORIES:Shopping
END:VEVENT
END:VCALENDAR