BEGIN:VCALENDAR
VERSION:2.0
PRODID:-//South Shore Home, Life &amp; Style - ECPv6.15.17.1//NONSGML v1.0//EN
CALSCALE:GREGORIAN
METHOD:PUBLISH
X-ORIGINAL-URL:https://southshorehomelifeandstyle.com
X-WR-CALDESC:Events for South Shore Home, Life &amp; Style
REFRESH-INTERVAL;VALUE=DURATION:PT1H
X-Robots-Tag:noindex
X-PUBLISHED-TTL:PT1H
BEGIN:VTIMEZONE
TZID:America/New_York
BEGIN:DAYLIGHT
TZOFFSETFROM:-0500
TZOFFSETTO:-0400
TZNAME:EDT
DTSTART:20250309T070000
END:DAYLIGHT
BEGIN:STANDARD
TZOFFSETFROM:-0400
TZOFFSETTO:-0500
TZNAME:EST
DTSTART:20251102T060000
END:STANDARD
BEGIN:DAYLIGHT
TZOFFSETFROM:-0500
TZOFFSETTO:-0400
TZNAME:EDT
DTSTART:20260308T070000
END:DAYLIGHT
BEGIN:STANDARD
TZOFFSETFROM:-0400
TZOFFSETTO:-0500
TZNAME:EST
DTSTART:20261101T060000
END:STANDARD
BEGIN:DAYLIGHT
TZOFFSETFROM:-0500
TZOFFSETTO:-0400
TZNAME:EDT
DTSTART:20270314T070000
END:DAYLIGHT
BEGIN:STANDARD
TZOFFSETFROM:-0400
TZOFFSETTO:-0500
TZNAME:EST
DTSTART:20271107T060000
END:STANDARD
END:VTIMEZONE
BEGIN:VEVENT
DTSTART;TZID=America/New_York:20260519T180000
DTEND;TZID=America/New_York:20260519T210000
DTSTAMP:20260419T104212
CREATED:20260402T184536Z
LAST-MODIFIED:20260402T184536Z
UID:10002478-1779213600-1779224400@southshorehomelifeandstyle.com
SUMMARY:Maria Droste Counseling Services: Fashion for Compassion 2026
DESCRIPTION:Fashion for Compassion returns on Tuesday\, May 19\, 2026\, at the stunning Granite Links in Quincy\, MA! \nOur annual Spring Fundraiser promises an evening filled with infectious energy\, bold creativity\, and powerful advocacy — all in support of prioritizing access to affordable mental health care. \nThis unforgettable night will inspire hope\, ignite healing\, and bring our community together for a cause that truly matters. \nJoin us for an inspiring celebration of fashion\, philanthropy\, and purpose. Immerse yourself in fabulous styles\, savor delectable cuisine\, and connect with passionate changemakers who believe in a future where affordable mental health care is accessible to all. \nTogether\, we can turn compassion into action — and make a meaningful difference. \nWe can’t wait to see you there!
URL:https://southshorehomelifeandstyle.com/event/maria-droste-counseling-services-fashion-for-compassion-2026/
LOCATION:Granite Links\, Quincy MA\, 100 Quarry Hills Dr\, Quincy\, MA\, 02169\, United States
CATEGORIES:Arts and Entertainment,Business and Networking,Food and Drink,Home and Garden
ATTACH;FMTTYPE=image/jpeg:https://southshorehomelifeandstyle.com/wp-content/uploads/2026/03/MDCS-Fashion-for-Compassion-Flyer.jpg
ORGANIZER;CN="Maria Droste Counseling Services":MAILTO:info@mariadrostecounseling.com
END:VEVENT
BEGIN:VEVENT
DTSTART;TZID=America/New_York:20260818T180000
DTEND;TZID=America/New_York:20260818T210000
DTSTAMP:20260419T104212
CREATED:20260330T152559Z
LAST-MODIFIED:20260330T152559Z
UID:10002477-1787076000-1787086800@southshorehomelifeandstyle.com
SUMMARY:BOSS Bash Tickets 2026 | South Shore’s Premier Summer Event | Granite Links August 18
DESCRIPTION:Join us for BOSS Bash 2026\, the South Shore’s most anticipated summer event\, happening August 18 at Granite Links. Celebrate the Best of the South Shore alongside 400+ local business owners\, professionals\, and community leaders. \nEnjoy an unforgettable evening of food\, drinks\, live entertainment\, and high-energy networking—all in one incredible setting overlooking the Boston skyline. \n\nWHAT YOUR TICKET INCLUDES:\n\nAccess to the full BOSS Bash experience\nTastings from top South Shore restaurants and beverage partners\nLive entertainment and interactive experiences\nNetworking with 400+ local professionals and business leaders\nAccess to VIP upgrades and pre-event reception\n\nBOSS Bash is more than an event—it’s where the South Shore connects. \nWhether you’re: \n\nLooking to meet new clients\nGrowing your business\nCelebrating your team\nOr just enjoying a night out\n\nThis is the event everyone will be talking about. \n\nEVENT DETAILS:\n📍 Granite Links\, Quincy\, MA📅 August 18\, 2026⏰ 6pm to 9pm👥 450+ Expected Attendees \n\nCTA SECTION:\nTickets are limited and expected to sell out. \n👉 Secure your spot today and be part of the South Shore’s signature summer event.
URL:https://southshorehomelifeandstyle.com/event/boss-bash-tickets-2026-south-shores-premier-summer-event-granite-links-august-18/
LOCATION:Granite Links\, Quincy MA\, 100 Quarry Hills Dr\, Quincy\, MA\, 02169\, United States
CATEGORIES:Arts and Entertainment,Business and Networking,Food and Drink
END:VEVENT
END:VCALENDAR